BEGIN:VCALENDAR
PRODID:-//Microsoft Corporation//Outlook 14.0 MIMEDIR//EN
VERSION:2.0
METHOD:PUBLISH
BEGIN:VEVENT
UID:8572afeda1d9ea45807b1eb4137d5d6awww.aviateurs.quebec
DTSTAMP:20260422T031936Z
DTSTART:2026-09-12T09:00:0000Z
DTEND:2026-09-12T16:00:0000Z
SUMMARY:RVA Lac Taureau
LOCATION:Auberge du Lac Taureau, Chemin de la Baie-du-Milieu, Saint-Michel-des-Saints, QC, Canada
DESCRIPTION:Un escapade en hydravion ou par voie terrestre à l’auberge du lac Taureau, organisée par l’Association des aviateurs de la région du Mont-Tremblant.
END:VEVENT
END:VCALENDAR