BEGIN:VCALENDAR
PRODID:-//Microsoft Corporation//Outlook 14.0 MIMEDIR//EN
VERSION:2.0
METHOD:PUBLISH
BEGIN:VEVENT
UID:db2ce53c8ae9cdf34714b7db195560f7www.aviateurs.quebec
DTSTAMP:20260422T031727Z
DTSTART:2026-10-17T10:00:0000Z
DTEND:2026-10-17T15:00:0000Z
SUMMARY:37e Mo’s Fly-In
LOCATION:Aérodrome Pontiac, Mohr, QC, Canada
DESCRIPTION:37e Mo’s Fly-In
END:VEVENT
END:VCALENDAR